BEGIN:VCALENDAR
VERSION:2.0
PRODID:-//The Security Foundation - ECPv6.15.20//NONSGML v1.0//EN
CALSCALE:GREGORIAN
METHOD:PUBLISH
X-ORIGINAL-URL:https://securityfdn.org
X-WR-CALDESC:Events for The Security Foundation
REFRESH-INTERVAL;VALUE=DURATION:PT1H
X-Robots-Tag:noindex
X-PUBLISHED-TTL:PT1H
BEGIN:VTIMEZONE
TZID:America/New_York
BEGIN:DAYLIGHT
TZOFFSETFROM:-0500
TZOFFSETTO:-0400
TZNAME:EDT
DTSTART:20230312T070000
END:DAYLIGHT
BEGIN:STANDARD
TZOFFSETFROM:-0400
TZOFFSETTO:-0500
TZNAME:EST
DTSTART:20231105T060000
END:STANDARD
BEGIN:DAYLIGHT
TZOFFSETFROM:-0500
TZOFFSETTO:-0400
TZNAME:EDT
DTSTART:20240310T070000
END:DAYLIGHT
BEGIN:STANDARD
TZOFFSETFROM:-0400
TZOFFSETTO:-0500
TZNAME:EST
DTSTART:20241103T060000
END:STANDARD
BEGIN:DAYLIGHT
TZOFFSETFROM:-0500
TZOFFSETTO:-0400
TZNAME:EDT
DTSTART:20250309T070000
END:DAYLIGHT
BEGIN:STANDARD
TZOFFSETFROM:-0400
TZOFFSETTO:-0500
TZNAME:EST
DTSTART:20251102T060000
END:STANDARD
END:VTIMEZONE
BEGIN:VEVENT
DTSTART;TZID=America/New_York:20240806T080000
DTEND;TZID=America/New_York:20240808T170000
DTSTAMP:20260421T082454
CREATED:20240404T213509Z
LAST-MODIFIED:20240404T213509Z
UID:16645-1722931200-1723136400@securityfdn.org
SUMMARY:International Organization of Black Security Executives (IOBSE) Annual Conference
DESCRIPTION:
URL:https://securityfdn.org/news-you-can-use/international-organization-of-black-security-executives-iobse-annual-conference/
LOCATION:Seattle\, WA
CATEGORIES:DEI
END:VEVENT
BEGIN:VEVENT
DTSTART;VALUE=DATE:20240805
DTEND;VALUE=DATE:20240809
DTSTAMP:20260421T082454
CREATED:20240614T153654Z
LAST-MODIFIED:20240614T153654Z
UID:16824-1722816000-1723161599@securityfdn.org
SUMMARY:Women in Federal Law Enforcement (WIFLE) Annual Leadership Training
DESCRIPTION:WIFLE’s Annual Leadership Training is a multi-day conference with attractive sessions designed for law enforcement professionals and related professions to learn\, network and grow together.
URL:https://securityfdn.org/news-you-can-use/women-in-federal-law-enforcement-wifle-annual-leadership-training/
LOCATION:Alexanderia\, Virginia
CATEGORIES:DEI
END:VEVENT
BEGIN:VEVENT
DTSTART;VALUE=DATE:20240718
DTEND;VALUE=DATE:20240719
DTSTAMP:20260421T082454
CREATED:20240312T195931Z
LAST-MODIFIED:20240312T195931Z
UID:16262-1721260800-1721347199@securityfdn.org
SUMMARY:Nelson Mandela International Day
DESCRIPTION:Established on July 18\, 2009\, on Nelson Mandela’s birthday\, this day celebrates of his life and legacy and is a global movement to change the world for the better. In 2008\, Mandela asked the next generation to take on the burden of leadership in addressing the world’s social injustice\, saying\, “It is in your\nhands now.”
URL:https://securityfdn.org/news-you-can-use/nelson-mandela-international-day/
CATEGORIES:DEI
END:VEVENT
BEGIN:VEVENT
DTSTART;VALUE=DATE:20240716
DTEND;VALUE=DATE:20240717
DTSTAMP:20260421T082454
CREATED:20240312T195701Z
LAST-MODIFIED:20240312T195701Z
UID:16260-1721088000-1721174399@securityfdn.org
SUMMARY:Ashura
DESCRIPTION:Islamic holiday commemorating the day Noah left the ark and the day Allah saved Moses from the Egyptians
URL:https://securityfdn.org/news-you-can-use/ashura/
CATEGORIES:DEI
END:VEVENT
BEGIN:VEVENT
DTSTART;VALUE=DATE:20240704
DTEND;VALUE=DATE:20240705
DTSTAMP:20260421T082454
CREATED:20240404T195802Z
LAST-MODIFIED:20240404T195802Z
UID:16612-1720051200-1720137599@securityfdn.org
SUMMARY:Independence Day
DESCRIPTION:
URL:https://securityfdn.org/news-you-can-use/independence-day/
CATEGORIES:DEI
END:VEVENT
BEGIN:VEVENT
DTSTART;VALUE=DATE:20240624
DTEND;VALUE=DATE:20240626
DTSTAMP:20260421T082454
CREATED:20240222T134810Z
LAST-MODIFIED:20240404T211641Z
UID:15168-1719187200-1719359999@securityfdn.org
SUMMARY:SIA & ASIS Security LeadHER Conference
DESCRIPTION:Join Security Industry Association (SIA) and ASIS International at the Security LeadHER Conference\nJune 24-25\, 2024\nPhoenix\, AZ \nDetails and registration
URL:https://securityfdn.org/news-you-can-use/security-leadher-conference/
LOCATION:Phoenix\, AZ
CATEGORIES:DEI
END:VEVENT
BEGIN:VEVENT
DTSTART;TZID=America/New_York:20240623T080000
DTEND;TZID=America/New_York:20240625T170000
DTSTAMP:20260421T082454
CREATED:20240404T211534Z
LAST-MODIFIED:20240404T211534Z
UID:16636-1719129600-1719334800@securityfdn.org
SUMMARY:ISMA June 2024 Member Meeting
DESCRIPTION:ISMA hosts two executive meetings annually\, in January and June\, for members only. These conferences provide two days of great opportunities to connect with and learn from fellow security executives and other experts from business and academia. Members gain insights into key areas of security management\, participate in discussions on urgent topical issues\, and connect with leaders in the industry. \nRegistration Information\n \n\nOpen to ISMA members only.\nRegistration deadline is May 31. Onsite registration is not permitted.
URL:https://securityfdn.org/news-you-can-use/isma-june-2024-member-meeting/
LOCATION:Chicago\, IL
CATEGORIES:DEI
END:VEVENT
BEGIN:VEVENT
DTSTART;VALUE=DATE:20240619
DTEND;VALUE=DATE:20240620
DTSTAMP:20260421T082454
CREATED:20240312T195349Z
LAST-MODIFIED:20240312T195349Z
UID:16256-1718755200-1718841599@securityfdn.org
SUMMARY:Juneteenth
DESCRIPTION:Established as a U.S. federal holiday in 2022\, Juneteeth commemorates emancipation dayfor African Americans. The holiday was first celebrated in Texas on June 19\, 1865\, when enslaved people were declared free under the terms of the 1862 Emancipation Proclamation.
URL:https://securityfdn.org/news-you-can-use/juneteenth/
CATEGORIES:DEI
END:VEVENT
BEGIN:VEVENT
DTSTART;VALUE=DATE:20240616
DTEND;VALUE=DATE:20240617
DTSTAMP:20260421T082454
CREATED:20240312T195238Z
LAST-MODIFIED:20240312T195238Z
UID:16254-1718496000-1718582399@securityfdn.org
SUMMARY:Eid al Adha
DESCRIPTION:Islamic festival observed by Muslims around the world to commemorate the willingness of Ibrahim (Abraham) to follow Allah’s command\nto sacrifice his son\, Ishmael
URL:https://securityfdn.org/news-you-can-use/eid-al-adha/
CATEGORIES:DEI
END:VEVENT
BEGIN:VEVENT
DTSTART;VALUE=DATE:20240613
DTEND;VALUE=DATE:20240614
DTSTAMP:20260421T082454
CREATED:20240614T150102Z
LAST-MODIFIED:20240614T150102Z
UID:16812-1718236800-1718323199@securityfdn.org
SUMMARY:OSAC Cybersecurity Committee (CSC) 2024 Annual Conference
DESCRIPTION:The OSAC Cybersecurity Steering Committee is delighted to announce that it will be hosting an exclusive in-person conference at in New York\, NY on Thursday\, June 13\, 2024. This event promises insightful discussions\, informative presentations\, and engaging networking opportunities. Following the conference\, attendees are invited to join a networking reception\, providing a perfect setting for further interaction and collaboration among participants. \nThere is no cost to attend.  Please note that you must be registered to attend any portion of the event. Walk-ins will not be permitted to enter and there will be no registration on-site.
URL:https://securityfdn.org/news-you-can-use/osac-cybersecurity-committee-csc-2024-annual-conference/
CATEGORIES:DEI
ORGANIZER;CN="OSAC":MAILTO:OsacAdmin@osac.gov
END:VEVENT
BEGIN:VEVENT
DTSTART;VALUE=DATE:20240611
DTEND;VALUE=DATE:20240612
DTSTAMP:20260421T082454
CREATED:20240404T190851Z
LAST-MODIFIED:20240404T190851Z
UID:16606-1718064000-1718150399@securityfdn.org
SUMMARY:OSAC Women in Security (WiS) Summer Conference
DESCRIPTION:
URL:https://securityfdn.org/news-you-can-use/osac-women-in-security-wis-summer-conference/
LOCATION:Tysons\, VA
CATEGORIES:DEI
ORGANIZER;CN="OSAC":MAILTO:OsacAdmin@osac.gov
END:VEVENT
BEGIN:VEVENT
DTSTART;VALUE=DATE:20240611
DTEND;VALUE=DATE:20240612
DTSTAMP:20260421T082454
CREATED:20240312T195100Z
LAST-MODIFIED:20240312T195100Z
UID:16252-1718064000-1718150399@securityfdn.org
SUMMARY:Shavout
DESCRIPTION:Jewish holiday marking the wheat harvest in Israel and commemoraing the anniversary of the day when the Jews received the Torah at Mount Sinai
URL:https://securityfdn.org/news-you-can-use/shavout/
CATEGORIES:DEI
END:VEVENT
BEGIN:VEVENT
DTSTART;TZID=America/New_York:20240606T080000
DTEND;TZID=America/New_York:20240607T170000
DTSTAMP:20260421T082454
CREATED:20240404T190344Z
LAST-MODIFIED:20240404T190344Z
UID:16604-1717660800-1717779600@securityfdn.org
SUMMARY:OSAC Faith-Based Sector Committee (FBSC) Annual Conference
DESCRIPTION:The Faith-Based Sector Committee Steering Committee is pleased to announce that this year’s FBSC conference will be held June 6-7\, 2024\, in Boston\, MA\, USA. \nThis event is open only to OSAC Full-Access members and additional information can be found here.
URL:https://securityfdn.org/news-you-can-use/osac-faith-based-sector-committee-fbsc-annual-conference/
LOCATION:Boston\, MA
CATEGORIES:DEI
ORGANIZER;CN="OSAC":MAILTO:OsacAdmin@osac.gov
END:VEVENT
BEGIN:VEVENT
DTSTART;VALUE=DATE:20240527
DTEND;VALUE=DATE:20240528
DTSTAMP:20260421T082454
CREATED:20240312T194938Z
LAST-MODIFIED:20240312T194938Z
UID:16250-1716768000-1716854399@securityfdn.org
SUMMARY:Memorial Day
DESCRIPTION:U.S. federal holiday honoring military veterans who died in wars fought by U.S. forces
URL:https://securityfdn.org/news-you-can-use/memorial-day/
CATEGORIES:DEI
END:VEVENT
BEGIN:VEVENT
DTSTART;VALUE=DATE:20240523
DTEND;VALUE=DATE:20240524
DTSTAMP:20260421T082454
CREATED:20240312T194828Z
LAST-MODIFIED:20240312T194828Z
UID:16248-1716422400-1716508799@securityfdn.org
SUMMARY:Vesak
DESCRIPTION:Commemorates the birth\, enlightenment and death of the Buddha
URL:https://securityfdn.org/news-you-can-use/vesak/
CATEGORIES:DEI
END:VEVENT
BEGIN:VEVENT
DTSTART;TZID=America/New_York:20240522T080000
DTEND;TZID=America/New_York:20240523T170000
DTSTAMP:20260421T082454
CREATED:20240404T190002Z
LAST-MODIFIED:20240404T190002Z
UID:16601-1716364800-1716483600@securityfdn.org
SUMMARY:OSAC Aviation Sector Committee (AVSC) Q2 Meeting
DESCRIPTION:Open to only OSAC Full-access AVSC members. Additional information can be found on OSAC.gov.
URL:https://securityfdn.org/news-you-can-use/osac-aviation-sector-committee-avsc-q2-meeting/
LOCATION:Boston\, MA
CATEGORIES:DEI
ORGANIZER;CN="OSAC":MAILTO:OsacAdmin@osac.gov
END:VEVENT
BEGIN:VEVENT
DTSTART;TZID=America/New_York:20240521T080000
DTEND;TZID=America/New_York:20240522T170000
DTSTAMP:20260421T082454
CREATED:20240404T185709Z
LAST-MODIFIED:20240404T185709Z
UID:16599-1716278400-1716397200@securityfdn.org
SUMMARY:OSAC Middle East and North Africa Regional Committee (MENA RC) Annual Conference
DESCRIPTION:Registration is open for OSAC’s Middle East North Africa Spring Conference in Boston\, MA\, on May 21-22nd. Join security experts across the public and private sector for panels and discussions around “Resilience in a Dynamic Region.” \nRegistration is open only to OSAC Full-Access members and information can be found here.
URL:https://securityfdn.org/news-you-can-use/osac-middle-east-and-north-africa-regional-committee-mena-rc-annual-conference/
CATEGORIES:DEI
ORGANIZER;CN="OSAC":MAILTO:OsacAdmin@osac.gov
END:VEVENT
BEGIN:VEVENT
DTSTART;VALUE=DATE:20240517
DTEND;VALUE=DATE:20240518
DTSTAMP:20260421T082454
CREATED:20240312T194732Z
LAST-MODIFIED:20240312T194732Z
UID:16246-1715904000-1715990399@securityfdn.org
SUMMARY:International Day Against Homophobia\, Transphobia and Biphobia
DESCRIPTION:Global celebration of sexual orientation and gender diversities to raise awareness for the rights of LGBTQ+ individuals
URL:https://securityfdn.org/news-you-can-use/international-day-against-homophobia-transphobia-and-biphobia/
CATEGORIES:DEI
END:VEVENT
BEGIN:VEVENT
DTSTART;TZID=America/New_York:20240514T080000
DTEND;TZID=America/New_York:20240515T170000
DTSTAMP:20260421T082454
CREATED:20240404T185242Z
LAST-MODIFIED:20240404T185242Z
UID:16597-1715673600-1715792400@securityfdn.org
SUMMARY:OSAC Pan-Asia Regional Committee (PARC) 2024 Summit
DESCRIPTION:All OSAC Full-Access members are invited to register for the 2024 Pan-Asia Regional Committee (PARC) Annual Summit on May 14-15\, 2024 in Meguro\, Tokyo\, Japan.\n\n\nThe theme of this year’s conference is “Navigating Complexity Together” and the program will feature sessions on the most pressing topics impacting U.S. organizations operating in the Pan-Asia region\, including business continuity amid geopolitical tensions\, reputational risk\, executive protection and wrongful detentions\, climate change\, mental health\, information security\, and more. The two-day conference will include a networking reception on the evening of Tuesday\, May 14.\n\nThis event is open to OSAC Full-Access members and invited guests only more information can be found here.
URL:https://securityfdn.org/news-you-can-use/osac-pan-asia-regional-committee-parc-2024-summit/
CATEGORIES:DEI
ORGANIZER;CN="OSAC":MAILTO:OsacAdmin@osac.gov
END:VEVENT
BEGIN:VEVENT
DTSTART;VALUE=DATE:20240512
DTEND;VALUE=DATE:20240519
DTSTAMP:20260421T082454
CREATED:20240312T194434Z
LAST-MODIFIED:20240312T194434Z
UID:16244-1715472000-1716076799@securityfdn.org
SUMMARY:National Police Week
DESCRIPTION:Week recognizing the service\, devotion and duty of care by the U.S. police
URL:https://securityfdn.org/news-you-can-use/national-police-week/
CATEGORIES:DEI
END:VEVENT
BEGIN:VEVENT
DTSTART;TZID=America/New_York:20240509T080000
DTEND;TZID=America/New_York:20240510T170000
DTSTAMP:20260421T082454
CREATED:20240404T184943Z
LAST-MODIFIED:20240404T184943Z
UID:16594-1715241600-1715360400@securityfdn.org
SUMMARY:OSAC Africa Regional Committee (ARC) Spring Conference
DESCRIPTION:The OSAC Africa Regional Committee is hosting a two-day conference in Atlanta\, Georgia\, featuring a great agenda planned focused on various security topics in the region. \nThis event is open to OSAC full-access members only and additional information can be viewed here.
URL:https://securityfdn.org/news-you-can-use/osac-africa-regional-committee-arc-spring-conference/
LOCATION:Atlanta\, GA
CATEGORIES:DEI
ORGANIZER;CN="OSAC":MAILTO:OsacAdmin@osac.gov
END:VEVENT
BEGIN:VEVENT
DTSTART;VALUE=DATE:20240505
DTEND;VALUE=DATE:20240507
DTSTAMP:20260421T082454
CREATED:20240312T194122Z
LAST-MODIFIED:20240312T194122Z
UID:16242-1714867200-1715039999@securityfdn.org
SUMMARY:Yom HaShoah: Holocaust Remembrance Day
DESCRIPTION:Internationally recognized date for Holocaust Remembrance Day\, corresponding to the 27th day of Nisan on the Hebrew calendar and marking the anniversary of the Warsaw Ghetto Uprising
URL:https://securityfdn.org/news-you-can-use/yom-hashoah-holocaust-remembrance-day/
CATEGORIES:DEI
END:VEVENT
BEGIN:VEVENT
DTSTART;VALUE=DATE:20240505
DTEND;VALUE=DATE:20240506
DTSTAMP:20260421T082454
CREATED:20240312T193806Z
LAST-MODIFIED:20240312T193806Z
UID:16240-1714867200-1714953599@securityfdn.org
SUMMARY:Cinco de Mayo
DESCRIPTION:Celebrate Mexico’s victory over the Second French Empire at the Battle of Puebla in 1862
URL:https://securityfdn.org/news-you-can-use/cinco-de-mayo/
CATEGORIES:DEI
END:VEVENT
BEGIN:VEVENT
DTSTART;VALUE=DATE:20240505
DTEND;VALUE=DATE:20240506
DTSTAMP:20260421T082454
CREATED:20240312T193544Z
LAST-MODIFIED:20240312T193544Z
UID:16238-1714867200-1714953599@securityfdn.org
SUMMARY:Eastern Orthodox Holy Friday/Good Friday
DESCRIPTION:Orthodox Christians in Europe\, Africa and the Middle East celebrate Easter later than most in the western world.
URL:https://securityfdn.org/news-you-can-use/eastern-orthodox-holy-friday-good-friday/
CATEGORIES:DEI
END:VEVENT
BEGIN:VEVENT
DTSTART;TZID=America/New_York:20240425T080000
DTEND;TZID=America/New_York:20240426T170000
DTSTAMP:20260421T082454
CREATED:20240404T184227Z
LAST-MODIFIED:20240404T184227Z
UID:16591-1714032000-1714150800@securityfdn.org
SUMMARY:OSAC Academic Sector Committee (ASC) Spring Conference
DESCRIPTION:OSAC Academia Sector Committee (ASC) members are invited to register now for the Spring 2024 Health\, Safety\, and Security Seminar at the University of Minnesota on April 25-26. \nRegistration is for OSAC members only and can be viewed here.
URL:https://securityfdn.org/news-you-can-use/osac-academic-sector-committee-asc-spring-conference/
LOCATION:Minneapolis\, MN
CATEGORIES:DEI
ORGANIZER;CN="OSAC":MAILTO:OsacAdmin@osac.gov
END:VEVENT
BEGIN:VEVENT
DTSTART;VALUE=DATE:20240424
DTEND;VALUE=DATE:20240425
DTSTAMP:20260421T082454
CREATED:20231129T132033Z
LAST-MODIFIED:20240319T144905Z
UID:14597-1713916800-1714003199@securityfdn.org
SUMMARY:2024 DSAC Annual Meeting & TSF Reception
DESCRIPTION:Join DSAC members for the DSAC Annual Meeting & TSF Reception \nApril 24\, 2024 \nDSAC’s largest and most important annual event\, the DSAC Annual Meeting attracts 600+ guests from the public and private sectors and includes the presentation of the DSAC Distinguished Achievement Awards. Following the DSAC Annual Meeting\, the Senior Leadership Exchange (SLX) provides CSOs opportunities to meet specific governmental personnel\, including senior FBI headquarters officials\, FBI Special Agents in Charge\, FBI Private Sector Coordinators\, DHS Homeland Security Investigators and other government representatives. \nThe much-anticipated TSF Reception\, a networking event with drinks and hors d’oeuvres\, immediately follows the SLX. This is not a seated dinner. \nSchedule: \nDSAC Annual Meeting: 8:30 AM to 5 PM\nSenior Leadership Exchange (SLX): 5 PM to 6 PM\nTSF Reception: 6 PM to 8 PM \n\n\n\n\n\nTO SPONSOR: Contact Siobhan Clune\, TSF Director of Development\, at siobhanclune@securityfdn.org. \nOr visit securityfdn.org/reception.
URL:https://securityfdn.org/news-you-can-use/2024-dsac-annual-meeting-isf-reception/
CATEGORIES:DEI
END:VEVENT
BEGIN:VEVENT
DTSTART;VALUE=DATE:20240422
DTEND;VALUE=DATE:20240501
DTSTAMP:20260421T082454
CREATED:20240312T193243Z
LAST-MODIFIED:20240312T193243Z
UID:16234-1713744000-1714521599@securityfdn.org
SUMMARY:Passover
DESCRIPTION:8-day Jewish holiday in commemoration of the emancipation of the Israelites from slavery in ancient Egypt
URL:https://securityfdn.org/news-you-can-use/passover/
CATEGORIES:DEI
END:VEVENT
BEGIN:VEVENT
DTSTART;TZID=America/New_York:20240410T080000
DTEND;TZID=America/New_York:20240411T170000
DTSTAMP:20260421T082454
CREATED:20240404T205358Z
LAST-MODIFIED:20240404T205358Z
UID:16627-1712736000-1712854800@securityfdn.org
SUMMARY:DSAC Midwest Regional Conference
DESCRIPTION:
URL:https://securityfdn.org/news-you-can-use/dsac-midwest-regional-conference/
LOCATION:St. Louis\, MO
CATEGORIES:DEI
END:VEVENT
BEGIN:VEVENT
DTSTART;TZID=America/New_York:20240410T080000
DTEND;TZID=America/New_York:20240411T170000
DTSTAMP:20260421T082454
CREATED:20240404T183409Z
LAST-MODIFIED:20240404T183409Z
UID:16588-1712736000-1712854800@securityfdn.org
SUMMARY:OSAC Latin America Regional Committee (LARC) Spring Conference
DESCRIPTION:The OSAC Latin America Regional Committee (LARC) will hold a conference on Wednesday\, April 10 and Thursday\, April 11. The conference will be proceeded by a networking reception on the evening of Tuesday\, April 9. \nRegistration is for OSAC members only and can be viewed here. \n  \n 
URL:https://securityfdn.org/news-you-can-use/osac-latin-america-regional-committee-larc-spring-conference/
LOCATION:Miami\, FL
CATEGORIES:DEI
ORGANIZER;CN="OSAC":MAILTO:OsacAdmin@osac.gov
END:VEVENT
BEGIN:VEVENT
DTSTART;VALUE=DATE:20240409
DTEND;VALUE=DATE:20240410
DTSTAMP:20260421T082454
CREATED:20240312T193026Z
LAST-MODIFIED:20240312T193026Z
UID:16230-1712620800-1712707199@securityfdn.org
SUMMARY:Eid al Fitr
DESCRIPTION:First day of the Islamic month of Shawwal\, marking the end of Ramadan. Many Muslims attend communal prayers\, listen to a khutuba (sermon) and give Zakat al-Fitr (charity in the form of food).
URL:https://securityfdn.org/news-you-can-use/eid-al-fitr/
CATEGORIES:DEI
END:VEVENT
END:VCALENDAR