BEGIN:VCALENDAR
VERSION:2.0
PRODID:-//The Security Foundation - ECPv6.15.20//NONSGML v1.0//EN
CALSCALE:GREGORIAN
METHOD:PUBLISH
X-WR-CALNAME:The Security Foundation
X-ORIGINAL-URL:https://securityfdn.org
X-WR-CALDESC:Events for The Security Foundation
REFRESH-INTERVAL;VALUE=DURATION:PT1H
X-Robots-Tag:noindex
X-PUBLISHED-TTL:PT1H
BEGIN:VTIMEZONE
TZID:America/New_York
BEGIN:DAYLIGHT
TZOFFSETFROM:-0500
TZOFFSETTO:-0400
TZNAME:EDT
DTSTART:20220313T070000
END:DAYLIGHT
BEGIN:STANDARD
TZOFFSETFROM:-0400
TZOFFSETTO:-0500
TZNAME:EST
DTSTART:20221106T060000
END:STANDARD
BEGIN:DAYLIGHT
TZOFFSETFROM:-0500
TZOFFSETTO:-0400
TZNAME:EDT
DTSTART:20230312T070000
END:DAYLIGHT
BEGIN:STANDARD
TZOFFSETFROM:-0400
TZOFFSETTO:-0500
TZNAME:EST
DTSTART:20231105T060000
END:STANDARD
BEGIN:DAYLIGHT
TZOFFSETFROM:-0500
TZOFFSETTO:-0400
TZNAME:EDT
DTSTART:20240310T070000
END:DAYLIGHT
BEGIN:STANDARD
TZOFFSETFROM:-0400
TZOFFSETTO:-0500
TZNAME:EST
DTSTART:20241103T060000
END:STANDARD
BEGIN:DAYLIGHT
TZOFFSETFROM:-0500
TZOFFSETTO:-0400
TZNAME:EDT
DTSTART:20250309T070000
END:DAYLIGHT
BEGIN:STANDARD
TZOFFSETFROM:-0400
TZOFFSETTO:-0500
TZNAME:EST
DTSTART:20251102T060000
END:STANDARD
END:VTIMEZONE
BEGIN:VEVENT
DTSTART;VALUE=DATE:20240331
DTEND;VALUE=DATE:20240401
DTSTAMP:20260423T042100
CREATED:20240312T192652Z
LAST-MODIFIED:20240312T192652Z
UID:16224-1711843200-1711929599@securityfdn.org
SUMMARY:International Transgender Day of Visibility
DESCRIPTION:Celebrated to bring awareness to transgender people and their identities and to recognize those who helping to fight for rights for transgender people
URL:https://securityfdn.org/news-you-can-use/international-transgender-day-of-visibility/
CATEGORIES:DEI
END:VEVENT
BEGIN:VEVENT
DTSTART;VALUE=DATE:20240331
DTEND;VALUE=DATE:20240401
DTSTAMP:20260423T042100
CREATED:20240312T192509Z
LAST-MODIFIED:20240312T192509Z
UID:16222-1711843200-1711929599@securityfdn.org
SUMMARY:Easter
DESCRIPTION:Christian holiday celebrating Jesus’ resurrection after the crucifixion
URL:https://securityfdn.org/news-you-can-use/easter/
CATEGORIES:DEI
END:VEVENT
BEGIN:VEVENT
DTSTART;VALUE=DATE:20240329
DTEND;VALUE=DATE:20240330
DTSTAMP:20260423T042100
CREATED:20240312T192400Z
LAST-MODIFIED:20240312T192400Z
UID:16220-1711670400-1711756799@securityfdn.org
SUMMARY:Good Friday
DESCRIPTION:Christian holiday commemorating the execution of Jesus by crucifixion
URL:https://securityfdn.org/news-you-can-use/good-friday/
CATEGORIES:DEI
END:VEVENT
BEGIN:VEVENT
DTSTART;VALUE=DATE:20240325
DTEND;VALUE=DATE:20240326
DTSTAMP:20260423T042100
CREATED:20240312T192234Z
LAST-MODIFIED:20240312T192234Z
UID:16218-1711324800-1711411199@securityfdn.org
SUMMARY:Holi
DESCRIPTION:Annual Hindu and Sikh spring religious festival often celebrated on the full moon before the beginning of the vernal equinox as\nbased on the Hindu calendar
URL:https://securityfdn.org/news-you-can-use/holi/
CATEGORIES:DEI
END:VEVENT
BEGIN:VEVENT
DTSTART;VALUE=DATE:20240324
DTEND;VALUE=DATE:20240325
DTSTAMP:20260423T042100
CREATED:20240312T192100Z
LAST-MODIFIED:20240312T192100Z
UID:16216-1711238400-1711324799@securityfdn.org
SUMMARY:Palm Sunday
DESCRIPTION:Christian holiday commemorating Jesus’ entry into Jerusalem is the last Sunday of Lent and beginning of the Holy Week
URL:https://securityfdn.org/news-you-can-use/palm-sunday/
CATEGORIES:DEI
END:VEVENT
BEGIN:VEVENT
DTSTART;VALUE=DATE:20240323
DTEND;VALUE=DATE:20240324
DTSTAMP:20260423T042100
CREATED:20240312T191919Z
LAST-MODIFIED:20240312T191919Z
UID:16214-1711152000-1711238399@securityfdn.org
SUMMARY:Purim
DESCRIPTION:Jewish celebration marking the time when the Jewish community living in Persia was saved from genocide. On Purim\, Jewish people dress up\nin costumes\, offer charity and share food with friends.
URL:https://securityfdn.org/news-you-can-use/purim/
CATEGORIES:DEI
END:VEVENT
BEGIN:VEVENT
DTSTART;VALUE=DATE:20240320
DTEND;VALUE=DATE:20240321
DTSTAMP:20260423T042100
CREATED:20240312T191755Z
LAST-MODIFIED:20240312T191755Z
UID:16211-1710892800-1710979199@securityfdn.org
SUMMARY:Naw Ruz
DESCRIPTION:Celebrated on the vernal equinox and one of the nine Bahá’í holy days on which work is suspended
URL:https://securityfdn.org/news-you-can-use/naw-ruz/
CATEGORIES:DEI
END:VEVENT
BEGIN:VEVENT
DTSTART;VALUE=DATE:20240320
DTEND;VALUE=DATE:20240325
DTSTAMP:20260423T042100
CREATED:20231109T125404Z
LAST-MODIFIED:20231116T154003Z
UID:14184-1710892800-1711324799@securityfdn.org
SUMMARY:ASIS Europe 2024 – From Risk to Resilience
DESCRIPTION:REGISTRATION IS OPEN!  Join ASIS in Vienna\, Austria on March 20-22\, 2024\, to expand your network of trusted security experts and discuss how security and risk topics impact business and operational outlooks. \nASIS Members save 25% on All Access Passes. Not a Member? Get a year’s ASIS membership included when you register. Group discounts available for 5 or more colleagues attending from the same organization. \nALL REGISTRATION OPTIONS
URL:https://securityfdn.org/news-you-can-use/asis-europe-2024-from-risk-to-resilience/
LOCATION:Vienna\, Austria
END:VEVENT
BEGIN:VEVENT
DTSTART;VALUE=DATE:20240320
DTEND;VALUE=DATE:20240325
DTSTAMP:20260423T042100
CREATED:20231109T125404Z
LAST-MODIFIED:20231109T125404Z
UID:15948-1710892800-1711324799@securityfdn.org
SUMMARY:ASIS Europe 2024 – From Risk to Resilience
DESCRIPTION:REGISTRATION IS OPEN!  Join ASIS in Vienna\, Austria on March 20-22\, 2024\, to expand your network of trusted security experts and discuss how security and risk topics impact business and operational outlooks. \nASIS Members save 25% on All Access Passes. Not a Member? Get a year’s ASIS membership included when you register. Group discounts available for 5 or more colleagues attending from the same organization. \nALL REGISTRATION OPTIONS
URL:https://securityfdn.org/news-you-can-use/asis-europe-2024-from-risk-to-resilience-2/
LOCATION:Vienna\, Austria
END:VEVENT
BEGIN:VEVENT
DTSTART;TZID=America/New_York:20240318T080000
DTEND;TZID=America/New_York:20240322T170000
DTSTAMP:20260423T042100
CREATED:20240404T205914Z
LAST-MODIFIED:20240404T205914Z
UID:16633-1710748800-1711126800@securityfdn.org
SUMMARY:DSAC Los Angeles Intel Senior Leader Course
DESCRIPTION:
URL:https://securityfdn.org/news-you-can-use/dsac-los-angeles-intel-senior-leader-course/
LOCATION:Los Angeles\, CA
CATEGORIES:DEI
END:VEVENT
BEGIN:VEVENT
DTSTART;VALUE=DATE:20240318
DTEND;VALUE=DATE:20240505
DTSTAMP:20260423T042100
CREATED:20240226T200813Z
LAST-MODIFIED:20240226T200813Z
UID:15444-1710720000-1714867199@securityfdn.org
SUMMARY:Eastern Orthodox Great Lent
DESCRIPTION:
URL:https://securityfdn.org/news-you-can-use/eastern-orthodox-great-lent/
CATEGORIES:DEI
END:VEVENT
BEGIN:VEVENT
DTSTART;VALUE=DATE:20240312
DTEND;VALUE=DATE:20240313
DTSTAMP:20260423T042100
CREATED:20240312T193107Z
LAST-MODIFIED:20240312T193107Z
UID:16232-1710201600-1710287999@securityfdn.org
SUMMARY:SIA Women in Security Forum Networking Breakfast\, Keynote and Power 100 Celebration at ISC West
DESCRIPTION:
URL:https://securityfdn.org/news-you-can-use/sia-women-in-security-forum-networking-breakfast-keynote-and-power-100-celebration-at-isc-west/
CATEGORIES:DEI
END:VEVENT
BEGIN:VEVENT
DTSTART;VALUE=DATE:20240310
DTEND;VALUE=DATE:20240410
DTSTAMP:20260423T042100
CREATED:20240226T200747Z
LAST-MODIFIED:20240312T191152Z
UID:15442-1710028800-1712707199@securityfdn.org
SUMMARY:Ramadan
DESCRIPTION:An Islamic holiday marked by fasting\, praise\, prayer and devotion to Islam.
URL:https://securityfdn.org/news-you-can-use/ramadan/
CATEGORIES:DEI
END:VEVENT
BEGIN:VEVENT
DTSTART;VALUE=DATE:20240308
DTEND;VALUE=DATE:20240309
DTSTAMP:20260423T042100
CREATED:20240312T185257Z
LAST-MODIFIED:20240312T185535Z
UID:16170-1709856000-1709942399@securityfdn.org
SUMMARY:International Women's Day
DESCRIPTION:First observed in 1911 in Germany\, global celebration honors women’s economic\, political and social achievements
URL:https://securityfdn.org/news-you-can-use/international-womens-day-2/
CATEGORIES:DEI
END:VEVENT
BEGIN:VEVENT
DTSTART;VALUE=DATE:20240307
DTEND;VALUE=DATE:20240308
DTSTAMP:20260423T042100
CREATED:20240312T185123Z
LAST-MODIFIED:20240312T185602Z
UID:16168-1709769600-1709855999@securityfdn.org
SUMMARY:International Day of Remembrance for Fallen Police Officers
DESCRIPTION:
URL:https://securityfdn.org/news-you-can-use/international-day-of-remembrance-for-fallen-police-officers/
CATEGORIES:DEI
END:VEVENT
BEGIN:VEVENT
DTSTART;VALUE=DATE:20240306
DTEND;VALUE=DATE:20240307
DTSTAMP:20260423T042100
CREATED:20240404T205521Z
LAST-MODIFIED:20240404T205521Z
UID:16630-1709683200-1709769599@securityfdn.org
SUMMARY:DSAC Corporate Security Symposium (CSS)
DESCRIPTION:
URL:https://securityfdn.org/news-you-can-use/dsac-corporate-security-symposium-css/
LOCATION:Houston\, TX
CATEGORIES:DEI
END:VEVENT
BEGIN:VEVENT
DTSTART;VALUE=DATE:20240301
DTEND;VALUE=DATE:20240320
DTSTAMP:20260423T042100
CREATED:20240226T192521Z
LAST-MODIFIED:20240312T191057Z
UID:15418-1709251200-1710892799@securityfdn.org
SUMMARY:19 Day Fast
DESCRIPTION:A time in the Bahá’í faith to reinvigorate the soul and bring one closer to God. This fast takes place immediately before the beginning of the Bahá’í New Year.
URL:https://securityfdn.org/news-you-can-use/19-day-fast/
CATEGORIES:DEI
END:VEVENT
BEGIN:VEVENT
DTSTART;TZID=America/New_York:20240209T110000
DTEND;TZID=America/New_York:20240209T114500
DTSTAMP:20260423T042100
CREATED:20231129T131022Z
LAST-MODIFIED:20231129T132333Z
UID:14594-1707476400-1707479100@securityfdn.org
SUMMARY:Connect & Discover: CSO Center Member Open House
DESCRIPTION:Join CSO Center volunteers and staff to lead a discussion of benefits and opportunities for CSO Center members. Sponsored by ASIS. \nAsk your burning questions about resources\, volunteer opportunities or other topics of interest and meet other CSO Center members. \nFriday\, February 9\, 2024\n11:00 – 11:45 ET (8am PT / 5pm CET). \nRegister online
URL:https://securityfdn.org/news-you-can-use/connect-discover-cso-center-member-open-house/
END:VEVENT
BEGIN:VEVENT
DTSTART;TZID=America/New_York:20240209T110000
DTEND;TZID=America/New_York:20240209T114500
DTSTAMP:20260423T042100
CREATED:20231129T131022Z
LAST-MODIFIED:20231129T131022Z
UID:15949-1707476400-1707479100@securityfdn.org
SUMMARY:Connect & Discover: CSO Center Member Open House
DESCRIPTION:Join CSO Center volunteers and staff to lead a discussion of benefits and opportunities for CSO Center members. Sponsored by ASIS. \nAsk your burning questions about resources\, volunteer opportunities or other topics of interest and meet other CSO Center members. \nFriday\, February 9\, 2024\n11:00 – 11:45 ET (8am PT / 5pm CET). \nRegister online
URL:https://securityfdn.org/news-you-can-use/connect-discover-cso-center-member-open-house-2/
END:VEVENT
BEGIN:VEVENT
DTSTART;TZID=America/New_York:20240125T130000
DTEND;TZID=America/New_York:20240125T140000
DTSTAMP:20260423T042100
CREATED:20231215T202359Z
LAST-MODIFIED:20231215T202408Z
UID:14700-1706187600-1706191200@securityfdn.org
SUMMARY:AIRIP January Webinar: “LEADERSHIP AND INTELLIGENCE: Curiosity\, Credibility and Communication”
DESCRIPTION:AIRIP January Webinar: “LEADERSHIP AND INTELLIGENCE: Curiosity\, Credibility and Communication”\nFree for Members and $25 for Nonmembers \nJanuary 25\, 2024\, 1:00 PM – 2:00 PM ET\nVirtual via Zoom \nPlease join AIRIP for the January edition of our AIRIP 2024 Webinar Series – Leadership and Intelligence: Curiosity\, Credibility and Communication. \nAIRIP Board Member and Education Committee Vice Chair\, Dr. Maria Robson-Morrow (Harvard Belfer Center) will serve as moderator for our January 2024 webinar. Our expert panel will include AIRIP Membership Committee Chair\, Klancie Lacy (Crisis 24) and AIRIP Education Committee member\, Dr. Angela Lewis (Georgetown University). \nTOPICS: Leadership development for intelligence professionals – including what unique skills intelligence professionals bring to leadership roles and what skills need to be developed in order to ‘level up.’ \nIf you have advance questions relevant to the topic\, please feel free to submit them to executivedirector@airip.org. The speakers will attempt to incorporate questions submitted in advance into the discussion. Additionally\, we will leave time for questions and comments submitted via the chat during the webinar. \nREGISTER \n 
URL:https://securityfdn.org/news-you-can-use/airip-january-webinar-leadership-and-intelligence-curiosity-credibility-and-communication/
LOCATION:Virtual
END:VEVENT
BEGIN:VEVENT
DTSTART;TZID=America/New_York:20231214T130000
DTEND;TZID=America/New_York:20231214T140000
DTSTAMP:20260423T042100
CREATED:20231212T135859Z
LAST-MODIFIED:20231212T145251Z
UID:14672-1702558800-1702562400@securityfdn.org
SUMMARY:AIRIP December Webinar: “2024 SECURITY TRENDS AND RESILIENCE THEMES: What Stakeholders Need to Know and How We Can Help”
DESCRIPTION:AIRIP December Webinar: “2024 SECURITY TRENDS AND RESILIENCE THEMES: What Stakeholders Need to Know and How We Can Help” \nDecember 14\, 2023\, 1:00 PM – 2:00 PM ET – Virtual via Zoom \nFree for Members and $25 for Nonmembers \nAIRIP Board Member and past President\, Justin Crump (Sibylline)\, will serve as moderator for AIRIP’s December webinar that will include an expert panel covering industry trends in 2024 and particularly addressing the theme of “gaining senior stakeholder attention\,” that is so often requested by our community. \nThis session will help set the tone for what to expect in the challenging year to come. Topics covered will include: \n· Examination of the key findings of The Business Value of Corporate Security research paper (hot off the press!)\n· How we can help deliver sustainable commercial success through resilience\, insight and crisis leadership in a volatile world\n· Engagement with senior stakeholders — how can we truly get the Board and C-suite engaged in understanding and acting on geopolitics and related trends?\n· Putting the AI in AIRIP — or not? What technological trends will impact us in 2024? \nPanelists will include Derek Leatherdale (GRI Strategies) and Rachel Briggs OBE (The Clarity Factory). \nIf you have advance questions relevant to the topic\, please feel free to submit them to executivedirector@airip.org. The speakers will attempt to incorporate questions submitted in advance into the discussion. Additionally\, we will leave time for questions and comments submitted via the chat during the webinar. \nREGISTER HERE
URL:https://securityfdn.org/news-you-can-use/airip-december-webinar-2024-security-trends-and-resilience-themes-what-stakeholders-need-to-know-and-how-we-can-help/
LOCATION:Virtual
END:VEVENT
BEGIN:VEVENT
DTSTART;TZID=America/New_York:20231115T180000
DTEND;TZID=America/New_York:20231115T213000
DTSTAMP:20260423T042100
CREATED:20230706T162931Z
LAST-MODIFIED:20230706T162931Z
UID:15939-1700071200-1700083800@securityfdn.org
SUMMARY:ISF Annual Dinner Celebrating OSAC
DESCRIPTION:Join the ISF in celebrating OSAC with the OSAC awards\, great networking\, an incredible keynote — stay tuned! — and a not-to-be-missed night for the security profession. \nSponsorship information \nWednesday\, November 15\, 2023\nNational Building Museum\nWashington\, D.C. \n 
URL:https://securityfdn.org/news-you-can-use/isf-annual-dinner-celebrating-osac-2/
LOCATION:National Building Museum\, 440 G St.\, N.W.\, Washington\, D.C.\, 20001\, United States
END:VEVENT
BEGIN:VEVENT
DTSTART;TZID=America/New_York:20231114T080000
DTEND;TZID=America/New_York:20231115T170000
DTSTAMP:20260423T042100
CREATED:20230717T211048Z
LAST-MODIFIED:20230718T163020Z
UID:13724-1699948800-1700067600@securityfdn.org
SUMMARY:OSAC Annual Briefing
DESCRIPTION:Join the security industry at the OSAC Annual Briefing\, held November 14-16\, 2023\, at the U.S. Department of State. \nRegistration opens in early September at osac.gov. Details coming soon!
URL:https://securityfdn.org/news-you-can-use/osac-annual-briefing-2/
LOCATION:U.S. Department of State\, Washington\, D.C.\, Washington\, DC\, United States
ORGANIZER;CN="OSAC":MAILTO:OsacAdmin@osac.gov
END:VEVENT
BEGIN:VEVENT
DTSTART;TZID=America/New_York:20231114T080000
DTEND;TZID=America/New_York:20231115T170000
DTSTAMP:20260423T042100
CREATED:20230717T211048Z
LAST-MODIFIED:20230717T211048Z
UID:15943-1699948800-1700067600@securityfdn.org
SUMMARY:OSAC Annual Briefing
DESCRIPTION:Join the security industry at the OSAC Annual Briefing\, held November 14-16\, 2023\, at the U.S. Department of State. \nRegistration opens in early September at osac.gov. Details coming soon!
URL:https://securityfdn.org/news-you-can-use/osac-annual-briefing-2-2/
LOCATION:U.S. Department of State\, Washington\, D.C.\, Washington\, DC\, United States
ORGANIZER;CN="OSAC":MAILTO:OsacAdmin@osac.gov
END:VEVENT
BEGIN:VEVENT
DTSTART;TZID=America/New_York:20231114T080000
DTEND;TZID=America/New_York:20231114T210000
DTSTAMP:20260423T042100
CREATED:20231026T190203Z
LAST-MODIFIED:20231026T190203Z
UID:14091-1699948800-1699995600@securityfdn.org
SUMMARY:ISMA Leadership Forum: Key Issues for Key People & ISMA Annual Reception
DESCRIPTION:November 14\, 2023 \nWashington\, D.C. \nRising security leaders will enjoy a day of leadership education from CSOs and industry experts tackling today’s key security and business issues. This event is purposefully built for individuals in the security profession who want to gain insight from ISMA CSOs to refine their corporate security business acumen. \nAttendees will also receive a complimentary registration for the invitation-only ISMA Annual Reception following the program\, offering an excellent opportunity to network with ISMA members and government guests and to mark ISMA’s 40th anniversary. \nISMA Leadership Forum INFO\nFull day program\nGoogle Corporate Offices\, Washington\, D.C. \nISMA Reception INFO\n6:00-9:00 p.m.\nWillard Intercontinental Hotel\, Washington\, D.C.
URL:https://securityfdn.org/news-you-can-use/isma-leadership-forum-key-issues-for-key-people-isma-annual-reception/
END:VEVENT
BEGIN:VEVENT
DTSTART;TZID=America/New_York:20231114T080000
DTEND;TZID=America/New_York:20231114T210000
DTSTAMP:20260423T042100
CREATED:20231026T190203Z
LAST-MODIFIED:20231026T190203Z
UID:15947-1699948800-1699995600@securityfdn.org
SUMMARY:ISMA Leadership Forum: Key Issues for Key People & ISMA Annual Reception
DESCRIPTION:November 14\, 2023 \nWashington\, D.C. \nRising security leaders will enjoy a day of leadership education from CSOs and industry experts tackling today’s key security and business issues. This event is purposefully built for individuals in the security profession who want to gain insight from ISMA CSOs to refine their corporate security business acumen. \nAttendees will also receive a complimentary registration for the invitation-only ISMA Annual Reception following the program\, offering an excellent opportunity to network with ISMA members and government guests and to mark ISMA’s 40th anniversary. \nISMA Leadership Forum INFO\nFull day program\nGoogle Corporate Offices\, Washington\, D.C. \nISMA Reception INFO\n6:00-9:00 p.m.\nWillard Intercontinental Hotel\, Washington\, D.C.
URL:https://securityfdn.org/news-you-can-use/isma-leadership-forum-key-issues-for-key-people-isma-annual-reception-2/
END:VEVENT
BEGIN:VEVENT
DTSTART;TZID=America/New_York:20231113T170000
DTEND;TZID=America/New_York:20231113T190000
DTSTAMP:20260423T042100
CREATED:20231006T203153Z
LAST-MODIFIED:20231006T203451Z
UID:13984-1699894800-1699902000@securityfdn.org
SUMMARY:Global Security Pride 2023 Evening Reception
DESCRIPTION:Global Security Pride cordially invites you to join us for an evening reception. Our second annual gathering will feature remarks from our co-leads Nick Lovrien\, Meta Chief Global Security Officer\, and Arian Avila\, Capital One Safety & Security Executive\, as well as International Security Foundation (ISF) Executive Director Peggy O’Neill and the Overseas Security Advisory Council (OSAC). \nMix and mingle with the LGBTQIA+ security community and our allies over drinks\, hors-d’oeuvres and a special performance by The Gay Men’s Chorus of Washington\, D.C. \nMonday\, November 13\, 2023 \n5–7 pm EST \nNestlé USA\, 1812 North Moore Street\, Floor 22\, Arlington\, VA 22209 \nRSVP here
URL:https://securityfdn.org/news-you-can-use/global-security-pride-2023-evening-reception/
LOCATION:Nestle USA\, 1812 N. Moore St.\, Floor 22\, Arlington\, VA\, 22209\, United States
END:VEVENT
BEGIN:VEVENT
DTSTART;TZID=America/New_York:20231113T170000
DTEND;TZID=America/New_York:20231113T190000
DTSTAMP:20260423T042100
CREATED:20231006T203153Z
LAST-MODIFIED:20231006T203153Z
UID:15945-1699894800-1699902000@securityfdn.org
SUMMARY:Global Security Pride 2023 Evening Reception
DESCRIPTION:Global Security Pride cordially invites you to join us for an evening reception. Our second annual gathering will feature remarks from our co-leads Nick Lovrien\, Meta Chief Global Security Officer\, and Arian Avila\, Capital One Safety & Security Executive\, as well as International Security Foundation (ISF) Executive Director Peggy O’Neill and the Overseas Security Advisory Council (OSAC). \nMix and mingle with the LGBTQIA+ security community and our allies over drinks\, hors-d’oeuvres and a special performance by The Gay Men’s Chorus of Washington\, D.C. \nMonday\, November 13\, 2023 \n5–7 pm EST \nNestlé USA\, 1812 North Moore Street\, Floor 22\, Arlington\, VA 22209 \nRSVP here
URL:https://securityfdn.org/news-you-can-use/global-security-pride-2023-evening-reception-2/
LOCATION:Nestle USA\, 1812 N. Moore St.\, Floor 22\, Arlington\, VA\, 22209\, United States
END:VEVENT
BEGIN:VEVENT
DTSTART;TZID=America/New_York:20231026T130000
DTEND;TZID=America/New_York:20231026T140000
DTSTAMP:20260423T042100
CREATED:20231018T160142Z
LAST-MODIFIED:20231018T160142Z
UID:14073-1698325200-1698328800@securityfdn.org
SUMMARY:AIRIP October Webinar: “Responding to Internal and External Pressures from Climate Change”
DESCRIPTION:October 26\, 2023\, 1:00 PM – 2:00 PM ET – Virtual via Zoom \nFree for Members and $25 for Nonmembers \nThe impact of climate change on organizations\, particularly as it relates to business resilience and development\, is no longer deniable.  In addition to its effect on internal mechanisms\, organizations are now being asked by clients and investors to account for their stance and impact on environmental topics. Join us as we discuss how climate change is transforming how we think and respond to business resilience\, government policy\, and employee safety. \nPanelists: Andrea Davis (The Resiliency Initiative)\, Harris Stephenson (FORESIGHT) and possibly others TBD. The session will be moderated by Education Committee member Abigail Williams (NFL). \nWe will leave time for your questions and comments\, and we look forward to seeing you soon. \nREGISTER
URL:https://securityfdn.org/news-you-can-use/airip-october-webinar-responding-to-internal-and-external-pressures-from-climate-change/
LOCATION:Virtual
END:VEVENT
BEGIN:VEVENT
DTSTART;TZID=America/New_York:20231026T130000
DTEND;TZID=America/New_York:20231026T140000
DTSTAMP:20260423T042100
CREATED:20231018T160142Z
LAST-MODIFIED:20231018T160142Z
UID:15946-1698325200-1698328800@securityfdn.org
SUMMARY:AIRIP October Webinar: “Responding to Internal and External Pressures from Climate Change”
DESCRIPTION:October 26\, 2023\, 1:00 PM – 2:00 PM ET – Virtual via Zoom \nFree for Members and $25 for Nonmembers \nThe impact of climate change on organizations\, particularly as it relates to business resilience and development\, is no longer deniable.  In addition to its effect on internal mechanisms\, organizations are now being asked by clients and investors to account for their stance and impact on environmental topics. Join us as we discuss how climate change is transforming how we think and respond to business resilience\, government policy\, and employee safety. \nPanelists: Andrea Davis (The Resiliency Initiative)\, Harris Stephenson (FORESIGHT) and possibly others TBD. The session will be moderated by Education Committee member Abigail Williams (NFL). \nWe will leave time for your questions and comments\, and we look forward to seeing you soon. \nREGISTER
URL:https://securityfdn.org/news-you-can-use/airip-october-webinar-responding-to-internal-and-external-pressures-from-climate-change-2/
LOCATION:Virtual
END:VEVENT
END:VCALENDAR