BEGIN:VCALENDAR
VERSION:2.0
PRODID:-//The Security Foundation - ECPv6.15.20//NONSGML v1.0//EN
CALSCALE:GREGORIAN
METHOD:PUBLISH
X-ORIGINAL-URL:https://securityfdn.org
X-WR-CALDESC:Events for The Security Foundation
REFRESH-INTERVAL;VALUE=DURATION:PT1H
X-Robots-Tag:noindex
X-PUBLISHED-TTL:PT1H
BEGIN:VTIMEZONE
TZID:America/Los_Angeles
BEGIN:DAYLIGHT
TZOFFSETFROM:-0800
TZOFFSETTO:-0700
TZNAME:PDT
DTSTART:20250309T100000
END:DAYLIGHT
BEGIN:STANDARD
TZOFFSETFROM:-0700
TZOFFSETTO:-0800
TZNAME:PST
DTSTART:20251102T090000
END:STANDARD
BEGIN:DAYLIGHT
TZOFFSETFROM:-0800
TZOFFSETTO:-0700
TZNAME:PDT
DTSTART:20260308T100000
END:DAYLIGHT
BEGIN:STANDARD
TZOFFSETFROM:-0700
TZOFFSETTO:-0800
TZNAME:PST
DTSTART:20261101T090000
END:STANDARD
BEGIN:DAYLIGHT
TZOFFSETFROM:-0800
TZOFFSETTO:-0700
TZNAME:PDT
DTSTART:20270314T100000
END:DAYLIGHT
BEGIN:STANDARD
TZOFFSETFROM:-0700
TZOFFSETTO:-0800
TZNAME:PST
DTSTART:20271107T090000
END:STANDARD
END:VTIMEZONE
BEGIN:VTIMEZONE
TZID:America/New_York
BEGIN:DAYLIGHT
TZOFFSETFROM:-0500
TZOFFSETTO:-0400
TZNAME:EDT
DTSTART:20230312T070000
END:DAYLIGHT
BEGIN:STANDARD
TZOFFSETFROM:-0400
TZOFFSETTO:-0500
TZNAME:EST
DTSTART:20231105T060000
END:STANDARD
BEGIN:DAYLIGHT
TZOFFSETFROM:-0500
TZOFFSETTO:-0400
TZNAME:EDT
DTSTART:20240310T070000
END:DAYLIGHT
BEGIN:STANDARD
TZOFFSETFROM:-0400
TZOFFSETTO:-0500
TZNAME:EST
DTSTART:20241103T060000
END:STANDARD
BEGIN:DAYLIGHT
TZOFFSETFROM:-0500
TZOFFSETTO:-0400
TZNAME:EDT
DTSTART:20250309T070000
END:DAYLIGHT
BEGIN:STANDARD
TZOFFSETFROM:-0400
TZOFFSETTO:-0500
TZNAME:EST
DTSTART:20251102T060000
END:STANDARD
END:VTIMEZONE
BEGIN:VEVENT
DTSTART;VALUE=DATE:20260401
DTEND;VALUE=DATE:20260402
DTSTAMP:20260422T051344
CREATED:20260318T113140Z
LAST-MODIFIED:20260318T113333Z
UID:21080-1775001600-1775087999@securityfdn.org
SUMMARY:OSAC Media and Entertainment Hybrid Meeting
DESCRIPTION:This half-day event will feature expert speakers\, valuable discussions on key issues impacting the media and entertainment industries operating around the world\, and networking opportunities for attendees.
URL:https://securityfdn.org/news-you-can-use/osac-media-and-entertainment-hybrid-meeting/
LOCATION:Los Angeles\, CA
CATEGORIES:OSAC
END:VEVENT
BEGIN:VEVENT
DTSTART;TZID=America/New_York:20240318T080000
DTEND;TZID=America/New_York:20240322T170000
DTSTAMP:20260422T051344
CREATED:20240404T205914Z
LAST-MODIFIED:20240404T205914Z
UID:16633-1710748800-1711126800@securityfdn.org
SUMMARY:DSAC Los Angeles Intel Senior Leader Course
DESCRIPTION:
URL:https://securityfdn.org/news-you-can-use/dsac-los-angeles-intel-senior-leader-course/
LOCATION:Los Angeles\, CA
CATEGORIES:DEI
END:VEVENT
END:VCALENDAR